Package: BiocVersion Version: 3.22.0 Command: rm -rf BiocVersion.buildbin-libdir && mkdir BiocVersion.buildbin-libdir && /Users/biocbuild/BBS/utils/build-universal.sh BiocVersion_3.22.0.tar.gz /Library/Frameworks/R.framework/Resources/bin/R BiocVersion.buildbin-libdir StartedAt: 2025-11-10 23:12:48 -0500 (Mon, 10 Nov 2025) EndedAt: 2025-11-10 23:12:49 -0500 (Mon, 10 Nov 2025) EllapsedTime: 1.0 seconds RetCode: 0 Status: OK PackageFile: BiocVersion_3.22.0.tgz PackageFileSize: 5.827 KiB