Package: BiocStyle Version: 2.38.0 Command: /home/biocbuild/bbs-3.22-bioc/R/bin/R CMD INSTALL BiocStyle StartedAt: 2025-11-17 16:57:53 -0500 (Mon, 17 Nov 2025) EndedAt: 2025-11-17 16:57:55 -0500 (Mon, 17 Nov 2025) EllapsedTime: 2.6 seconds RetCode: 0 Status: OK