Package: BiocSklearn Version: 1.31.0 Command: /home/biocbuild/bbs-3.22-bioc/R/bin/R CMD INSTALL BiocSklearn StartedAt: 2025-10-24 15:28:41 -0400 (Fri, 24 Oct 2025) EndedAt: 2025-10-24 15:29:03 -0400 (Fri, 24 Oct 2025) EllapsedTime: 22.1 seconds RetCode: 0 Status: OK