Package: BiocPkgTools Version: 1.28.0 Command: /home/biocbuild/bbs-3.22-bioc/R/bin/R CMD INSTALL BiocPkgTools StartedAt: 2025-10-30 15:13:48 -0400 (Thu, 30 Oct 2025) EndedAt: 2025-10-30 15:13:58 -0400 (Thu, 30 Oct 2025) EllapsedTime: 10.5 seconds RetCode: 0 Status: OK