Package: BiocParallel Version: 1.44.0 Command: /Library/Frameworks/R.framework/Resources/bin/R CMD build --keep-empty-dirs --no-resave-data BiocParallel StartedAt: 2025-11-17 20:37:09 -0500 (Mon, 17 Nov 2025) EndedAt: 2025-11-17 20:40:15 -0500 (Mon, 17 Nov 2025) EllapsedTime: 185.9 seconds RetCode: 0 Status: OK PackageFile: BiocParallel_1.44.0.tar.gz PackageFileSize: 1.051 MiB