Package: BiocParallel Version: 1.44.0 Command: /Library/Frameworks/R.framework/Resources/bin/R CMD INSTALL BiocParallel StartedAt: 2025-10-31 15:15:58 -0400 (Fri, 31 Oct 2025) EndedAt: 2025-10-31 15:16:36 -0400 (Fri, 31 Oct 2025) EllapsedTime: 38.2 seconds RetCode: 0 Status: OK