Package: BiocParallel Version: 1.44.0 Command: /Library/Frameworks/R.framework/Resources/bin/R CMD build --keep-empty-dirs --no-resave-data BiocParallel StartedAt: 2025-10-31 16:18:58 -0400 (Fri, 31 Oct 2025) EndedAt: 2025-10-31 16:21:01 -0400 (Fri, 31 Oct 2025) EllapsedTime: 123.3 seconds RetCode: 0 Status: OK PackageFile: BiocParallel_1.44.0.tar.gz PackageFileSize: 1.051 MiB