Package: BiocParallel Version: 1.43.4 Command: /Library/Frameworks/R.framework/Resources/bin/R CMD INSTALL BiocParallel StartedAt: 2025-10-24 15:05:11 -0400 (Fri, 24 Oct 2025) EndedAt: 2025-10-24 15:05:25 -0400 (Fri, 24 Oct 2025) EllapsedTime: 14.1 seconds RetCode: 0 Status: OK