Package: BiocParallel Version: 1.44.0 Command: /Library/Frameworks/R.framework/Resources/bin/R CMD INSTALL BiocParallel StartedAt: 2025-11-17 16:56:11 -0500 (Mon, 17 Nov 2025) EndedAt: 2025-11-17 16:56:18 -0500 (Mon, 17 Nov 2025) EllapsedTime: 6.5 seconds RetCode: 0 Status: OK