Package: BiocParallel Version: 1.44.0 Command: /Library/Frameworks/R.framework/Resources/bin/R CMD build --keep-empty-dirs --no-resave-data BiocParallel StartedAt: 2025-11-17 19:24:06 -0500 (Mon, 17 Nov 2025) EndedAt: 2025-11-17 19:24:55 -0500 (Mon, 17 Nov 2025) EllapsedTime: 49.5 seconds RetCode: 0 Status: OK PackageFile: BiocParallel_1.44.0.tar.gz PackageFileSize: 1.052 MiB