Package: BiocParallel Version: 1.44.0 Command: rm -rf BiocParallel.buildbin-libdir && mkdir BiocParallel.buildbin-libdir && /Users/biocbuild/BBS/utils/build-universal.sh BiocParallel_1.44.0.tar.gz /Library/Frameworks/R.framework/Resources/bin/R BiocParallel.buildbin-libdir StartedAt: 2025-11-18 15:10:42 -0500 (Tue, 18 Nov 2025) EndedAt: 2025-11-18 15:10:54 -0500 (Tue, 18 Nov 2025) EllapsedTime: 12.1 seconds RetCode: 0 Status: OK PackageFile: BiocParallel_1.44.0.tgz PackageFileSize: 1.598 MiB