Package: BiocParallel Version: 1.44.0 Maintainer: Jiefei Wang MaintainerEmail: jiefei0804 at gmail.com git_url: https://git.bioconductor.org/packages/BiocParallel git_branch: RELEASE_3_22 git_last_commit: 3d6f2f6 git_last_commit_date: 2025-10-29 10:12:50 -0500 (Wed, 29 Oct 2025)