Package: BiocIO Version: 1.19.0 Command: /home/biocbuild/bbs-3.22-bioc/R/bin/R CMD INSTALL BiocIO StartedAt: 2025-10-28 15:12:10 -0400 (Tue, 28 Oct 2025) EndedAt: 2025-10-28 15:12:15 -0400 (Tue, 28 Oct 2025) EllapsedTime: 5.2 seconds RetCode: 0 Status: OK