Package: BiocHubsShiny Version: 1.10.0 Command: /home/biocbuild/bbs-3.22-bioc/R/bin/R CMD build --keep-empty-dirs --no-resave-data --md5 BiocHubsShiny StartedAt: 2025-11-13 16:30:51 -0500 (Thu, 13 Nov 2025) EndedAt: 2025-11-13 16:31:12 -0500 (Thu, 13 Nov 2025) EllapsedTime: 21.0 seconds RetCode: 0 Status: OK PackageFile: BiocHubsShiny_1.10.0.tar.gz PackageFileSize: 1.605 MiB