Package: BiocGenerics Version: 0.55.4 Command: /home/biocbuild/bbs-3.22-bioc/R/bin/R CMD INSTALL BiocGenerics StartedAt: 2025-10-24 15:22:11 -0400 (Fri, 24 Oct 2025) EndedAt: 2025-10-24 15:22:20 -0400 (Fri, 24 Oct 2025) EllapsedTime: 9.0 seconds RetCode: 0 Status: OK