Package: BiocGenerics Version: 0.55.4 Command: /home/biocbuild/bbs-3.22-bioc/R/bin/R CMD build --keep-empty-dirs --no-resave-data --md5 BiocGenerics StartedAt: 2025-10-24 16:38:49 -0400 (Fri, 24 Oct 2025) EndedAt: 2025-10-24 16:38:51 -0400 (Fri, 24 Oct 2025) EllapsedTime: 2.0 seconds RetCode: 0 Status: OK PackageFile: BiocGenerics_0.55.4.tar.gz PackageFileSize: 60.07 KiB