Package: BiocFileCache Version: 2.99.6 Command: /home/biocbuild/R/R/bin/R CMD INSTALL BiocFileCache StartedAt: 2025-10-23 20:26:27 -0000 (Thu, 23 Oct 2025) EndedAt: 2025-10-23 20:26:47 -0000 (Thu, 23 Oct 2025) EllapsedTime: 20.4 seconds RetCode: 0 Status: OK