Package: BiocFileCache Version: 2.99.6 Command: /home/biocbuild/R/R/bin/R CMD build --keep-empty-dirs --no-resave-data BiocFileCache StartedAt: 2025-10-20 22:14:37 -0000 (Mon, 20 Oct 2025) EndedAt: 2025-10-20 22:16:03 -0000 (Mon, 20 Oct 2025) EllapsedTime: 86.0 seconds RetCode: 1 Status: ERROR PackageFile: None PackageFileSize: NA