Package: BiocFileCache Version: 3.0.0 Command: /home/biocbuild/bbs-3.22-bioc/R/bin/R CMD check --install=check:BiocFileCache.install-out.txt --library=/home/biocbuild/bbs-3.22-bioc/R/site-library --timings BiocFileCache_3.0.0.tar.gz StartedAt: 2025-11-18 00:58:52 -0500 (Tue, 18 Nov 2025) EndedAt: 2025-11-18 01:38:53 -0500 (Tue, 18 Nov 2025) EllapsedTime: 2401.0 seconds RetCode: None Status: TIMEOUT CheckDir: BiocFileCache.Rcheck Warnings: NA