Package: BiocFileCache Version: 3.0.0 Command: /Library/Frameworks/R.framework/Resources/bin/R CMD INSTALL BiocFileCache StartedAt: 2025-11-17 17:03:05 -0500 (Mon, 17 Nov 2025) EndedAt: 2025-11-17 17:03:19 -0500 (Mon, 17 Nov 2025) EllapsedTime: 13.5 seconds RetCode: 0 Status: OK