Package: BiocFileCache Version: 3.0.0 Command: /Library/Frameworks/R.framework/Resources/bin/R CMD build --keep-empty-dirs --no-resave-data BiocFileCache StartedAt: 2025-11-17 20:36:32 -0500 (Mon, 17 Nov 2025) EndedAt: 2025-11-17 20:38:49 -0500 (Mon, 17 Nov 2025) EllapsedTime: 136.6 seconds RetCode: 0 Status: OK PackageFile: BiocFileCache_3.0.0.tar.gz PackageFileSize: 725.5 KiB