Package: BiocFileCache Version: 3.0.0 Command: rm -rf BiocFileCache.buildbin-libdir && mkdir BiocFileCache.buildbin-libdir && /Users/biocbuild/BBS/utils/build-universal.sh BiocFileCache_3.0.0.tar.gz /Library/Frameworks/R.framework/Resources/bin/R BiocFileCache.buildbin-libdir StartedAt: 2025-11-18 17:14:32 -0500 (Tue, 18 Nov 2025) EndedAt: 2025-11-18 17:14:51 -0500 (Tue, 18 Nov 2025) EllapsedTime: 19.3 seconds RetCode: 0 Status: OK PackageFile: BiocFileCache_3.0.0.tgz PackageFileSize: 952.7 KiB