Package: BiocFileCache Version: 3.0.0 Command: /Library/Frameworks/R.framework/Resources/bin/R CMD INSTALL BiocFileCache StartedAt: 2025-11-17 17:05:42 -0500 (Mon, 17 Nov 2025) EndedAt: 2025-11-17 17:05:45 -0500 (Mon, 17 Nov 2025) EllapsedTime: 2.6 seconds RetCode: 0 Status: OK