Package: BiocFileCache Version: 3.0.0 Command: /Library/Frameworks/R.framework/Resources/bin/R CMD build --keep-empty-dirs --no-resave-data BiocFileCache StartedAt: 2025-11-17 19:23:45 -0500 (Mon, 17 Nov 2025) EndedAt: 2025-11-17 19:24:15 -0500 (Mon, 17 Nov 2025) EllapsedTime: 30.3 seconds RetCode: 0 Status: OK PackageFile: BiocFileCache_3.0.0.tar.gz PackageFileSize: 725.8 KiB