Package: BiocBaseUtils Version: 1.12.0 Command: /home/biocbuild/R/R/bin/R CMD INSTALL BiocBaseUtils StartedAt: 2025-11-17 21:03:18 -0000 (Mon, 17 Nov 2025) EndedAt: 2025-11-17 21:03:45 -0000 (Mon, 17 Nov 2025) EllapsedTime: 26.8 seconds RetCode: 0 Status: OK