Package: BiocBaseUtils Version: 1.12.0 Command: /home/biocbuild/R/R/bin/R CMD build --keep-empty-dirs --no-resave-data BiocBaseUtils StartedAt: 2025-11-18 00:00:01 -0000 (Tue, 18 Nov 2025) EndedAt: 2025-11-18 00:00:06 -0000 (Tue, 18 Nov 2025) EllapsedTime: 5.0 seconds RetCode: 0 Status: OK PackageFile: BiocBaseUtils_1.12.0.tar.gz PackageFileSize: 251.1 KiB