Package: BiocBaseUtils Version: 1.11.2 Command: /home/biocbuild/bbs-3.22-bioc/R/bin/R CMD INSTALL BiocBaseUtils StartedAt: 2025-10-27 15:04:39 -0400 (Mon, 27 Oct 2025) EndedAt: 2025-10-27 15:04:49 -0400 (Mon, 27 Oct 2025) EllapsedTime: 9.6 seconds RetCode: 0 Status: OK