Package: BiocBaseUtils Version: 1.11.2 Command: /home/biocbuild/bbs-3.22-bioc/R/bin/R CMD build --keep-empty-dirs --no-resave-data --md5 BiocBaseUtils StartedAt: 2025-10-27 16:30:06 -0400 (Mon, 27 Oct 2025) EndedAt: 2025-10-27 16:30:10 -0400 (Mon, 27 Oct 2025) EllapsedTime: 4.0 seconds RetCode: 0 Status: OK PackageFile: BiocBaseUtils_1.11.2.tar.gz PackageFileSize: 227.1 KiB