Package: BiocBaseUtils Version: 1.12.0 Command: /Library/Frameworks/R.framework/Resources/bin/R CMD INSTALL BiocBaseUtils StartedAt: 2025-11-17 16:49:38 -0500 (Mon, 17 Nov 2025) EndedAt: 2025-11-17 16:49:44 -0500 (Mon, 17 Nov 2025) EllapsedTime: 5.9 seconds RetCode: 0 Status: OK