Package: BiocBaseUtils Version: 1.12.0 Command: rm -rf BiocBaseUtils.buildbin-libdir && mkdir BiocBaseUtils.buildbin-libdir && /Users/biocbuild/BBS/utils/build-universal.sh BiocBaseUtils_1.12.0.tar.gz /Library/Frameworks/R.framework/Resources/bin/R BiocBaseUtils.buildbin-libdir StartedAt: 2025-11-18 17:14:30 -0500 (Tue, 18 Nov 2025) EndedAt: 2025-11-18 17:14:36 -0500 (Tue, 18 Nov 2025) EllapsedTime: 6.2 seconds RetCode: 0 Status: OK PackageFile: BiocBaseUtils_1.12.0.tgz PackageFileSize: 251.2 KiB