Package: BiocBaseUtils Version: 1.11.2 Command: /Library/Frameworks/R.framework/Resources/bin/R CMD INSTALL BiocBaseUtils StartedAt: 2025-10-28 15:06:55 -0400 (Tue, 28 Oct 2025) EndedAt: 2025-10-28 15:07:38 -0400 (Tue, 28 Oct 2025) EllapsedTime: 42.8 seconds RetCode: 0 Status: OK