Package: BiocBaseUtils Version: 1.11.2 Command: rm -rf BiocBaseUtils.buildbin-libdir && mkdir BiocBaseUtils.buildbin-libdir && /Users/biocbuild/BBS/utils/build-universal.sh BiocBaseUtils_1.11.2.tar.gz /Library/Frameworks/R.framework/Resources/bin/R BiocBaseUtils.buildbin-libdir StartedAt: 2025-10-28 02:01:25 -0400 (Tue, 28 Oct 2025) EndedAt: 2025-10-28 02:01:30 -0400 (Tue, 28 Oct 2025) EllapsedTime: 4.6 seconds RetCode: 0 Status: OK PackageFile: BiocBaseUtils_1.11.2.tgz PackageFileSize: 250.5 KiB