Package: BiocBaseUtils Version: 1.11.2 Command: /Library/Frameworks/R.framework/Resources/bin/R CMD INSTALL BiocBaseUtils StartedAt: 2025-10-28 15:01:37 -0400 (Tue, 28 Oct 2025) EndedAt: 2025-10-28 15:01:41 -0400 (Tue, 28 Oct 2025) EllapsedTime: 3.5 seconds RetCode: 0 Status: OK