Package: BiocBaseUtils Version: 1.12.0 Command: /Library/Frameworks/R.framework/Resources/bin/R CMD INSTALL BiocBaseUtils StartedAt: 2025-11-17 16:51:50 -0500 (Mon, 17 Nov 2025) EndedAt: 2025-11-17 16:51:52 -0500 (Mon, 17 Nov 2025) EllapsedTime: 1.2 seconds RetCode: 0 Status: OK