Package: BiocBaseUtils Version: 1.12.0 Maintainer: Marcel Ramos MaintainerEmail: marcel.ramos at sph.cuny.edu git_url: https://git.bioconductor.org/packages/BiocBaseUtils git_branch: RELEASE_3_22 git_last_commit: 756163a git_last_commit_date: 2025-10-29 11:17:04 -0400 (Wed, 29 Oct 2025)