Package: BioTIP Version: 1.24.0 Command: /Library/Frameworks/R.framework/Resources/bin/R CMD INSTALL BioTIP StartedAt: 2025-11-03 15:53:53 -0500 (Mon, 03 Nov 2025) EndedAt: 2025-11-03 15:54:09 -0500 (Mon, 03 Nov 2025) EllapsedTime: 16.2 seconds RetCode: 0 Status: OK