Package: BioTIP Version: 1.24.0 Command: /Library/Frameworks/R.framework/Resources/bin/R CMD INSTALL BioTIP StartedAt: 2025-11-06 15:29:59 -0500 (Thu, 06 Nov 2025) EndedAt: 2025-11-06 15:30:04 -0500 (Thu, 06 Nov 2025) EllapsedTime: 5.1 seconds RetCode: 0 Status: OK