Package: BioTIP Version: 1.24.0 Command: /Library/Frameworks/R.framework/Resources/bin/R CMD build --keep-empty-dirs --no-resave-data BioTIP StartedAt: 2025-11-06 15:47:05 -0500 (Thu, 06 Nov 2025) EndedAt: 2025-11-06 15:47:48 -0500 (Thu, 06 Nov 2025) EllapsedTime: 42.5 seconds RetCode: 0 Status: OK PackageFile: BioTIP_1.24.0.tar.gz PackageFileSize: 8.852 MiB