Package: BioNet Version: 1.70.0 Command: /Library/Frameworks/R.framework/Resources/bin/R CMD INSTALL BioNet StartedAt: 2025-11-03 15:24:48 -0500 (Mon, 03 Nov 2025) EndedAt: 2025-11-03 15:25:07 -0500 (Mon, 03 Nov 2025) EllapsedTime: 19.2 seconds RetCode: 0 Status: OK