Package: BioNet Version: 1.70.0 Command: /Library/Frameworks/R.framework/Resources/bin/R CMD build --keep-empty-dirs --no-resave-data BioNet StartedAt: 2025-11-03 16:15:51 -0500 (Mon, 03 Nov 2025) EndedAt: 2025-11-03 16:16:54 -0500 (Mon, 03 Nov 2025) EllapsedTime: 62.9 seconds RetCode: 0 Status: OK PackageFile: BioNet_1.70.0.tar.gz PackageFileSize: 1.801 MiB