Package: BioNet Version: 1.69.0 Command: /Library/Frameworks/R.framework/Resources/bin/R CMD INSTALL BioNet StartedAt: 2025-10-28 15:09:16 -0400 (Tue, 28 Oct 2025) EndedAt: 2025-10-28 15:09:22 -0400 (Tue, 28 Oct 2025) EllapsedTime: 5.8 seconds RetCode: 0 Status: OK