Package: BioNet Version: 1.69.0 Command: /Library/Frameworks/R.framework/Resources/bin/R CMD build --keep-empty-dirs --no-resave-data BioNet StartedAt: 2025-10-28 15:47:03 -0400 (Tue, 28 Oct 2025) EndedAt: 2025-10-28 15:47:25 -0400 (Tue, 28 Oct 2025) EllapsedTime: 22.2 seconds RetCode: 0 Status: OK PackageFile: BioNet_1.69.0.tar.gz PackageFileSize: 1.802 MiB