Package: BioNERO Version: 1.18.0 Command: /home/biocbuild/bbs-3.22-bioc/R/bin/R CMD INSTALL BioNERO StartedAt: 2025-11-03 15:46:23 -0500 (Mon, 03 Nov 2025) EndedAt: 2025-11-03 15:47:01 -0500 (Mon, 03 Nov 2025) EllapsedTime: 37.4 seconds RetCode: 0 Status: OK