Package: BioNAR Version: 1.12.0 Command: /home/biocbuild/bbs-3.22-bioc/R/bin/R CMD INSTALL BioNAR StartedAt: 2025-11-02 15:58:04 -0500 (Sun, 02 Nov 2025) EndedAt: 2025-11-02 15:58:31 -0500 (Sun, 02 Nov 2025) EllapsedTime: 27.1 seconds RetCode: 0 Status: OK