Package: BioNAR Version: 1.12.0 Command: /home/biocbuild/bbs-3.22-bioc/R/bin/R CMD build --keep-empty-dirs --no-resave-data --md5 BioNAR StartedAt: 2025-11-03 16:33:21 -0500 (Mon, 03 Nov 2025) EndedAt: 2025-11-03 16:35:49 -0500 (Mon, 03 Nov 2025) EllapsedTime: 148.1 seconds RetCode: 0 Status: OK PackageFile: BioNAR_1.12.0.tar.gz PackageFileSize: 3.503 MiB