Package: BioMVCClass Version: 1.77.0 Command: /home/biocbuild/bbs-3.22-bioc/R/bin/R CMD INSTALL BioMVCClass StartedAt: 2025-10-24 15:25:24 -0400 (Fri, 24 Oct 2025) EndedAt: 2025-10-24 15:25:29 -0400 (Fri, 24 Oct 2025) EllapsedTime: 4.8 seconds RetCode: 0 Status: OK