Package: BioMVCClass Version: 1.77.0 Command: /home/biocbuild/bbs-3.22-bioc/R/bin/R CMD check --install=check:BioMVCClass.install-out.txt --library=/home/biocbuild/bbs-3.22-bioc/R/site-library --timings BioMVCClass_1.77.0.tar.gz StartedAt: 2025-10-24 21:38:54 -0400 (Fri, 24 Oct 2025) EndedAt: 2025-10-24 21:39:33 -0400 (Fri, 24 Oct 2025) EllapsedTime: 39.1 seconds RetCode: 0 Status: OK CheckDir: BioMVCClass.Rcheck Warnings: 0