Package: BioMVCClass Version: 1.78.0 Command: /Library/Frameworks/R.framework/Resources/bin/R CMD build --keep-empty-dirs --no-resave-data BioMVCClass StartedAt: 2025-11-17 20:40:31 -0500 (Mon, 17 Nov 2025) EndedAt: 2025-11-17 20:40:50 -0500 (Mon, 17 Nov 2025) EllapsedTime: 19.1 seconds RetCode: 0 Status: OK PackageFile: BioMVCClass_1.78.0.tar.gz PackageFileSize: 130.8 KiB