Package: BioMVCClass Version: 1.78.0 Command: /Library/Frameworks/R.framework/Resources/bin/R CMD INSTALL BioMVCClass StartedAt: 2025-11-17 17:14:37 -0500 (Mon, 17 Nov 2025) EndedAt: 2025-11-17 17:14:39 -0500 (Mon, 17 Nov 2025) EllapsedTime: 2.3 seconds RetCode: 0 Status: OK