Package: BioGA Version: 1.3.0 Command: /home/biocbuild/bbs-3.22-bioc/R/bin/R CMD INSTALL BioGA StartedAt: 2025-10-28 15:59:34 -0400 (Tue, 28 Oct 2025) EndedAt: 2025-10-28 16:00:22 -0400 (Tue, 28 Oct 2025) EllapsedTime: 48.8 seconds RetCode: 0 Status: OK